BEGIN:VCALENDAR
VERSION:2.0
PRODID:Fort Bend County, TX Calendar Creator
METHOD:PUBLISH
BEGIN:VEVENT
DTSTAMP:20250812T091255
DTSTART:20250813T030000
DTEND:20250813T070000
SUMMARY:Fort Bend County Health & Human Services Hosts Community Blood Drive - Give the Gift of Life!
DESCRIPTION:<p><a data-button="none" data-options="open_new_tab" href="https://pressreleases.fortbendcountytx.gov/County_Judge/2025/2025-08-12_Fort_Bend_County_Health_Human_Services_Hosts_Community_Blood_Drive_Gi
CLASS:PUBLIC
END:VEVENT
END:VCALENDAR
